BEGIN:VCALENDAR
VERSION:2.0
PRODID:-//Sabre//Sabre VObject 4.5.0//EN
CALSCALE:GREGORIAN
BEGIN:VEVENT
UID:sabre-vobject-04d24d65-cf47-4d22-8839-3f436a66edef
DTSTAMP:20260426T011927Z
LOCATION:test
SUMMARY:atest
DESCRIPTION:
DTSTART;VALUE=DATE:20230915
DTEND;VALUE=DATE:20230916
END:VEVENT
END:VCALENDAR
